BEGIN:VCALENDAR
VERSION:2.0
PRODID:-//wp-events-plugin.com//7.2.3.1//EN
TZID:Europe/Berlin
X-WR-TIMEZONE:Europe/Berlin
BEGIN:VEVENT
UID:151@newcenturylions.de
DTSTART;TZID=Europe/Berlin;VALUE=DATE:20241019
DTEND;TZID=Europe/Berlin;VALUE=DATE:20241020
DTSTAMP:20240906T145354Z
URL:https://newcenturylions.de/events/aufbau-gruselgarten-halloween/
SUMMARY:Aufbau GruselGarten Halloween
DESCRIPTION:an diesem Tag werden die ersten Aufbauaktionen für den 31.10.2
 024 getätigt
CATEGORIES:Activities
LOCATION:Villa San Remo\, Bergbahnstraße 12\, Dresden\, 01324\, Deutschlan
 d
X-APPLE-STRUCTURED-LOCATION;VALUE=URI;X-ADDRESS=Bergbahnstraße 12\, Dresde
 n\, 01324\, Deutschland;X-APPLE-RADIUS=100;X-TITLE=Villa San Remo:geo:0,0
END:VEVENT
BEGIN:VTIMEZONE
TZID:Europe/Berlin
X-LIC-LOCATION:Europe/Berlin
BEGIN:DAYLIGHT
DTSTART:20240331T030000
TZOFFSETFROM:+0100
TZOFFSETTO:+0200
TZNAME:CEST
END:DAYLIGHT
END:VTIMEZONE
END:VCALENDAR