BEGIN:VCALENDAR
VERSION:2.0
PRODID:-//wp-events-plugin.com//7.2.3.1//EN
TZID:Europe/Berlin
X-WR-TIMEZONE:Europe/Berlin
BEGIN:VEVENT
UID:156@newcenturylions.de
DTSTART;TZID=Europe/Berlin:20250426T100000
DTEND;TZID=Europe/Berlin:20250426T210000
DTSTAMP:20240906T151217Z
URL:https://newcenturylions.de/events/bike-oldtimer-ausfahrt-2/
SUMMARY:Bike & Oldtimer Ausfahrt
DESCRIPTION:Der New-Century Lions-Club Dresden lädt zur alljährlichen Bik
 e &amp\; Oldtimer-Ausfahrt ein.\n\nAnmeldungen bitte an matthias.klauck@ec
 e.com\n\nDie genaue Planung wird noch nachgereicht!
CATEGORIES:Lions Club Dresden New Century
END:VEVENT
BEGIN:VTIMEZONE
TZID:Europe/Berlin
X-LIC-LOCATION:Europe/Berlin
BEGIN:DAYLIGHT
DTSTART:20250330T030000
TZOFFSETFROM:+0100
TZOFFSETTO:+0200
TZNAME:CEST
END:DAYLIGHT
END:VTIMEZONE
END:VCALENDAR