BEGIN:VCALENDAR
VERSION:2.0
PRODID:-//wp-events-plugin.com//7.2.3.1//EN
TZID:Europe/Berlin
X-WR-TIMEZONE:Europe/Berlin
BEGIN:VEVENT
UID:26@newcenturylions.de
DTSTART;TZID=Europe/Berlin:20241106T190000
DTEND;TZID=Europe/Berlin:20241106T220000
DTSTAMP:20240906T150231Z
URL:https://newcenturylions.de/events/clubsitzung-2024-11-06/
SUMMARY:Mitgliederversammlung
DESCRIPTION:Die interne Mitgliederversammlung - zu dieser Veranstaltung dü
 rfen leider nur Mitglieder teilnehmen!
CATEGORIES:Lions Club Dresden New Century
LOCATION:Restaurant Moritz im Suitess Hotel Dresden\, Rampische Str.\, Dres
 den\, 01067\, Deutschland
X-APPLE-STRUCTURED-LOCATION;VALUE=URI;X-ADDRESS=Rampische Str.\, Dresden\, 
 01067\, Deutschland;X-APPLE-RADIUS=100;X-TITLE=Restaurant Moritz im Suites
 s Hotel Dresden:geo:0,0
END:VEVENT
BEGIN:VTIMEZONE
TZID:Europe/Berlin
X-LIC-LOCATION:Europe/Berlin
BEGIN:STANDARD
DTSTART:20241027T020000
TZOFFSETFROM:+0200
TZOFFSETTO:+0100
TZNAME:CET
END:STANDARD
END:VTIMEZONE
END:VCALENDAR