BEGIN:VCALENDAR
VERSION:2.0
PRODID:-//wp-events-plugin.com//7.2.3.1//EN
TZID:Europe/Berlin
X-WR-TIMEZONE:Europe/Berlin
BEGIN:VEVENT
UID:28@newcenturylions.de
DTSTART;TZID=Europe/Berlin:20250108T190000
DTEND;TZID=Europe/Berlin:20250108T213000
DTSTAMP:20240906T150613Z
URL:https://newcenturylions.de/events/clubsitzung-2025-01-01/
SUMMARY:Clubsitzung mit Vortrag "Außenwirtschaft"
DESCRIPTION:Die monatliche Clubsitzung des New Century Lions-Clubs Dresden.
 \n\nHier besprechen wir u.a. den Fortschritt an unseren Activities sowie d
 ie Planung und den Ablauf unserer vielzähligen Fundraising-Aktionen. Aber
  natürlich kommen auch die wichtigen persönlichen Gespräche sowie die P
 lanungen für z.B. Club-Ausflüge nicht zu kurz.\n\nZusätzlich wird unser
  Lions-Mitglied Robert Beuthner (IHK) einen Vortrag zum Thema Außenwirtsc
 haft halten!\n\nWir Treffen uns immer bereits ab 18:30 Uhr\, so können wi
 r in Ruhe miteinander persönliche Gespräche führen und Abendessen bevor
  die Clubsitzung dann 19:00 Uhr startet.\n\nDie Clubsitzung endet meist so
  gegen 21:00 - 21:30 Uhr. Einige von uns sitzen gerne nach der Clubsitzung
  noch bei einem Glas Wein oder Bier und besprechen Themen untereinander.\n
 \nDu möchtest gerne Gast unserer Clubsitzung sein?\nKein Problem - schrei
 b bitte an info@newcenturylions.de eine kurze E-Mail und wir laden dich ge
 rne zu einer unserer nächsten Clubsitzungen ein.\n\nBitte hab Verständni
 s das nur geladene Gäste zu Clubsitzungen bewohnen dürfen. Eine Anmeldun
 g ist also zwingend notwendig!
CATEGORIES:Lions Club Dresden New Century
LOCATION:Restaurant Moritz im Suitess Hotel Dresden\, Rampische Str.\, Dres
 den\, 01067\, Deutschland
X-APPLE-STRUCTURED-LOCATION;VALUE=URI;X-ADDRESS=Rampische Str.\, Dresden\, 
 01067\, Deutschland;X-APPLE-RADIUS=100;X-TITLE=Restaurant Moritz im Suites
 s Hotel Dresden:geo:0,0
END:VEVENT
BEGIN:VTIMEZONE
TZID:Europe/Berlin
X-LIC-LOCATION:Europe/Berlin
BEGIN:STANDARD
DTSTART:20241027T020000
TZOFFSETFROM:+0200
TZOFFSETTO:+0100
TZNAME:CET
END:STANDARD
END:VTIMEZONE
END:VCALENDAR