BEGIN:VCALENDAR
VERSION:2.0
PRODID:-//wp-events-plugin.com//7.2.3.1//EN
TZID:Europe/Berlin
X-WR-TIMEZONE:Europe/Berlin
BEGIN:VEVENT
UID:147@newcenturylions.de
DTSTART;TZID=Europe/Berlin:20231007T130000
DTEND;TZID=Europe/Berlin:20231007T170000
DTSTAMP:20240906T093145Z
URL:https://newcenturylions.de/events/drachensteigen-mit-den-kindern-der-a
 rche-dresden/
SUMMARY:Drachensteigen mit den Kindern der Arche Dresden
DESCRIPTION:Zusammen mit den Kindern der Arche Dresden wollen wir auf den D
 resdner Elbwiesen zum zweiten Mal in Folge die Drachen steigen und fliegen
  lassen!
CATEGORIES:Lions Club Dresden New Century
END:VEVENT
BEGIN:VTIMEZONE
TZID:Europe/Berlin
X-LIC-LOCATION:Europe/Berlin
BEGIN:DAYLIGHT
DTSTART:20230326T030000
TZOFFSETFROM:+0100
TZOFFSETTO:+0200
TZNAME:CEST
END:DAYLIGHT
END:VTIMEZONE
END:VCALENDAR