BEGIN:VCALENDAR
VERSION:2.0
PRODID:-//wp-events-plugin.com//7.2.3.1//EN
TZID:Europe/Berlin
X-WR-TIMEZONE:Europe/Berlin
BEGIN:VEVENT
UID:153@newcenturylions.de
DTSTART;TZID=Europe/Berlin;VALUE=DATE:20241031
DTEND;TZID=Europe/Berlin;VALUE=DATE:20241101
DTSTAMP:20240906T145803Z
URL:https://newcenturylions.de/events/gruselgarten-halloween-2024/
SUMMARY:GruselGarten Halloween 2024
DESCRIPTION:\n\n\n\n\nEndlich Halloween- es ist wieder soweit. Ab 15:30 Uhr
  lädt der Gruselgarten der Villa San Remo zum zwölften Mal ein. All­jä
 hrlich treffen sich dort Grusel-Fans der näheren und ferneren Umgebung au
 f dem über 3.000 Quadra­tmeter großen Gelände. Viele perfekt dar­gest
 ellte und gruselig schöne Gestalten be­gleiten die Besucher auf ihrem We
 g.\n\n\n\n\n\n\n\n\n\n\nMit viel Liebe zum schaurigen Detail verwandelt si
 ch eines der extra­vagantesten Villen­gebäude im Dresdner Stadtteil Los
 chwitz in ein wahr­haftiges Grusel­paradies. Um die jüngeren Besucher 
 nicht allzu sehr zu verschrecken\, werden diese\, zwischen 15:30 und 16:30
  Uhr\, von guten Geistern durch den Garten geführt\, an allen besonders g
 ruseligen Situ­ationen vorbei. So sind schlechte Träume zu Halloween aus
 ­geschlossen.\n\n\n\n\n\n\n\n\n\n\nUnd wie jedes Jahr\, an Halloween\, st
 eht das Event wieder voll und ganz im Zeichen der Wohl­tätigkeit. Mit Un
 ter­stützung des New Century Lions Club Dresden und dem LEO-Club Dresden
  geht der Reinerlös in diesem Jahr an die THW Helfer­vereinigung Dresden
  e.V. Durch Ihre Teilnahme bereiten sie sich also nicht nicht nur selbst e
 inen unvergess­lichen Spaß sondern unterstützen mit Ihrem Eintritts­ge
 ld ausgewählte Projekte\, die dringende Hilfe benötigen.\n\nTickets gibt
  es unter: https://dresden-halloween.de/\n\n\n\n\n
CATEGORIES:Activities
LOCATION:Villa San Remo\, Bergbahnstraße 12\, Dresden\, 01324\, Deutschlan
 d
X-APPLE-STRUCTURED-LOCATION;VALUE=URI;X-ADDRESS=Bergbahnstraße 12\, Dresde
 n\, 01324\, Deutschland;X-APPLE-RADIUS=100;X-TITLE=Villa San Remo:geo:0,0
END:VEVENT
BEGIN:VTIMEZONE
TZID:Europe/Berlin
X-LIC-LOCATION:Europe/Berlin
BEGIN:STANDARD
DTSTART:20241027T020000
TZOFFSETFROM:+0200
TZOFFSETTO:+0100
TZNAME:CET
END:STANDARD
END:VTIMEZONE
END:VCALENDAR