BEGIN:VCALENDAR
VERSION:2.0
PRODID:-//wp-events-plugin.com//7.2.3.1//EN
TZID:Europe/Berlin
X-WR-TIMEZONE:Europe/Berlin
BEGIN:VEVENT
UID:105@newcenturylions.de
DTSTART;TZID=Europe/Berlin;VALUE=DATE:20240621
DTEND;TZID=Europe/Berlin;VALUE=DATE:20240626
DTSTAMP:20240906T093143Z
URL:https://newcenturylions.de/events/international-lions-convention-2/
SUMMARY:International Lions Convention
DESCRIPTION:\n\nLions Clubs International Convention\n\n\n\n\n\n\n\nJedes J
 ahr treffen sich mehr als 20.000 Lions-Mitglieder aus der ganzen Welt zu i
 hrem großen Jahrestreffen. Die Convention bietet eine ideale Umgebung\, u
 m Bekanntschaften zu schließen und Freundschaften zu pflegen. Lernen Sie 
 die Projekte anderer Clubs und Distrikte kennen! Und machen Sie persönlic
 h Bekanntschaft mit internationalen Führungskräften und Vertretern Ihrer
  Organisation!\n\nWährend der International Convention haben Sie die Gele
 genheit\, zusammen mit Lions aus mehr als 120 Ländern und geografischen R
 egionen bei der Parade der Nationen feierlich durch die Straßen der Conve
 ntion-Stadt zu laufen. Wohnen Sie Seminaren bei und stimmen Sie über die 
 Zukunft von Lions ab. Und genießen Sie besondere Momente wie drei spannen
 de Plenarsitzungen\, eine vielfältige Ausstellungshalle und vieles mehr.\
 n\n\nMehr Informationen unter: https://www.melbourne2024.org.au/\n\n\n\n
CATEGORIES:Lions Weltweit
LOCATION:Melbourne Convention and Exhibition Center\, 1 Convention Center P
 l\, Melbourne (South Wharf)\, VIC\, 3006\, Australien
X-APPLE-STRUCTURED-LOCATION;VALUE=URI;X-ADDRESS=1 Convention Center Pl\, Me
 lbourne (South Wharf)\, VIC\, 3006\, Australien;X-APPLE-RADIUS=100;X-TITLE
 =Melbourne Convention and Exhibition Center:geo:0,0
END:VEVENT
BEGIN:VTIMEZONE
TZID:Europe/Berlin
X-LIC-LOCATION:Europe/Berlin
BEGIN:DAYLIGHT
DTSTART:20240331T030000
TZOFFSETFROM:+0100
TZOFFSETTO:+0200
TZNAME:CEST
END:DAYLIGHT
END:VTIMEZONE
END:VCALENDAR