BEGIN:VCALENDAR
VERSION:2.0
PRODID:-//wp-events-plugin.com//7.2.3.1//EN
TZID:Europe/Berlin
X-WR-TIMEZONE:Europe/Berlin
BEGIN:VEVENT
UID:150@newcenturylions.de
DTSTART;TZID=Europe/Berlin:20241012T100000
DTEND;TZID=Europe/Berlin:20241012T190000
DTSTAMP:20240906T145214Z
URL:https://newcenturylions.de/events/vorbereitungen-gruselgarten-hallowee
 n-2/
SUMMARY:Vorbereitungen GruselGarten Halloween
DESCRIPTION:an diesem Tag werden die ersten Vorbereitungen für den 31.10.2
 024 getroffen – u.a. wird weiteres Equipment gebaut und ggf. bestehendes
  Equipment repariert
CATEGORIES:Activities
LOCATION:Villa San Remo\, Bergbahnstraße 12\, Dresden\, 01324\, Deutschlan
 d
X-APPLE-STRUCTURED-LOCATION;VALUE=URI;X-ADDRESS=Bergbahnstraße 12\, Dresde
 n\, 01324\, Deutschland;X-APPLE-RADIUS=100;X-TITLE=Villa San Remo:geo:0,0
END:VEVENT
BEGIN:VTIMEZONE
TZID:Europe/Berlin
X-LIC-LOCATION:Europe/Berlin
BEGIN:DAYLIGHT
DTSTART:20240331T030000
TZOFFSETFROM:+0100
TZOFFSETTO:+0200
TZNAME:CEST
END:DAYLIGHT
END:VTIMEZONE
END:VCALENDAR